
BEGIN:VCALENDAR
VERSION:2.0
PRODID:-//Centro de Investigaciones Geofísicas - ECPv6.15.19//NONSGML v1.0//EN
CALSCALE:GREGORIAN
METHOD:PUBLISH
X-WR-CALNAME:Centro de Investigaciones Geofísicas
X-ORIGINAL-URL:https://cigefi.ucr.ac.cr
X-WR-CALDESC:Eventos para Centro de Investigaciones Geofísicas
REFRESH-INTERVAL;VALUE=DURATION:PT1H
X-Robots-Tag:noindex
X-PUBLISHED-TTL:PT1H
BEGIN:VTIMEZONE
TZID:America/Costa_Rica
BEGIN:STANDARD
TZOFFSETFROM:-0600
TZOFFSETTO:-0600
TZNAME:CST
DTSTART:20220101T000000
END:STANDARD
END:VTIMEZONE
BEGIN:VEVENT
DTSTART;TZID=America/Costa_Rica:20230322T020000
DTEND;TZID=America/Costa_Rica:20230322T150000
DTSTAMP:20260419T073436
CREATED:20230301T163432Z
LAST-MODIFIED:20230301T164059Z
UID:1735-1679450400-1679497200@cigefi.ucr.ac.cr
SUMMARY:Conferencia ANC
DESCRIPTION:La Academia Nacional de Ciencias les invita a la conferencia del mes de marzo 2023: «Impactos históricos de eventos hidrometeorológicos en nuestra sociedad» impartida por el investigador del CIGEFI el Dr. Eric Alfaro Martínez.\n\n\nFecha: 22 de marzo\, 2023.\nHora: 03:00 P.M. hora Costa Rica (21:00 UTC)\nTransmisión:\nZoom: https://us06web.zoom.us/j/82250791220\nID de reunión: 822 5079 1220\nFacebook Live:\nLink: https://www.facebook.com/Academia-Nacional-de-Ciencias-Costa-Rica-544769138905293\n\n  \nEa Anc March23
URL:https://cigefi.ucr.ac.cr/event/1735/
END:VEVENT
END:VCALENDAR