
BEGIN:VCALENDAR
VERSION:2.0
PRODID:-//Centro de Investigaciones Geofísicas - ECPv6.15.20//NONSGML v1.0//EN
CALSCALE:GREGORIAN
METHOD:PUBLISH
X-WR-CALNAME:Centro de Investigaciones Geofísicas
X-ORIGINAL-URL:https://cigefi.ucr.ac.cr
X-WR-CALDESC:Eventos para Centro de Investigaciones Geofísicas
REFRESH-INTERVAL;VALUE=DURATION:PT1H
X-Robots-Tag:noindex
X-PUBLISHED-TTL:PT1H
BEGIN:VTIMEZONE
TZID:America/Costa_Rica
BEGIN:STANDARD
TZOFFSETFROM:-0600
TZOFFSETTO:-0600
TZNAME:CST
DTSTART:20250101T000000
END:STANDARD
END:VTIMEZONE
BEGIN:VEVENT
DTSTART;TZID=America/Costa_Rica:20260321T080000
DTEND;TZID=America/Costa_Rica:20260321T170000
DTSTAMP:20260424T145714
CREATED:20260309T203814Z
LAST-MODIFIED:20260317T151149Z
UID:4854-1774080000-1774112400@cigefi.ucr.ac.cr
SUMMARY:Día Internacional de los Bosques
DESCRIPTION:Día Internacional de los Bosques | 21 de marzo \n 
URL:https://cigefi.ucr.ac.cr/event/4854/
ATTACH;FMTTYPE=image/png:https://cigefi.ucr.ac.cr/wp-content/uploads/2026/03/21MARZO2026.png
END:VEVENT
END:VCALENDAR