
BEGIN:VCALENDAR
VERSION:2.0
PRODID:-//Centro de Investigaciones Geofísicas - ECPv6.15.19//NONSGML v1.0//EN
CALSCALE:GREGORIAN
METHOD:PUBLISH
X-WR-CALNAME:Centro de Investigaciones Geofísicas
X-ORIGINAL-URL:https://cigefi.ucr.ac.cr
X-WR-CALDESC:Eventos para Centro de Investigaciones Geofísicas
REFRESH-INTERVAL;VALUE=DURATION:PT1H
X-Robots-Tag:noindex
X-PUBLISHED-TTL:PT1H
BEGIN:VTIMEZONE
TZID:America/Costa_Rica
BEGIN:STANDARD
TZOFFSETFROM:-0600
TZOFFSETTO:-0600
TZNAME:CST
DTSTART:20230101T000000
END:STANDARD
END:VTIMEZONE
BEGIN:VEVENT
DTSTART;TZID=America/Costa_Rica:20240831T080000
DTEND;TZID=America/Costa_Rica:20240831T170000
DTSTAMP:20260420T094839
CREATED:20230829T201559Z
LAST-MODIFIED:20240807T175036Z
UID:2345-1725091200-1725123600@cigefi.ucr.ac.cr
SUMMARY:Día de la persona negra y la cultura afrocostarricense
DESCRIPTION:La Asamblea legislativa de la República de Costa Rica decretó día de la persona negra y la cultura afrocostarricense: \nArtículo 1- Se declara agosto como el mes histórico de la afrodescendencia en Costa Rica y el 31 de agosto de cada año como la fecha oficial para celebrar el Día de la Persona Negra y la Cultura Afrocostarricense. \nhttp://www.pgrweb.go.cr/scij/Busqueda/Normativa/Normas/nrm_texto_completo.aspx?param1=NRTC&nValor1=1&nValor2=86358 \n  \n 
URL:https://cigefi.ucr.ac.cr/event/dia-de-la-persona-negra-y-la-cultura-afrocostarricense/
ATTACH;FMTTYPE=image/webp:https://cigefi.ucr.ac.cr/wp-content/uploads/2023/08/31-de-agosto-de-2023-1.webp
END:VEVENT
END:VCALENDAR