
BEGIN:VCALENDAR
VERSION:2.0
PRODID:-//Centro de Investigaciones Geofísicas - ECPv6.15.19//NONSGML v1.0//EN
CALSCALE:GREGORIAN
METHOD:PUBLISH
X-WR-CALNAME:Centro de Investigaciones Geofísicas
X-ORIGINAL-URL:https://cigefi.ucr.ac.cr
X-WR-CALDESC:Eventos para Centro de Investigaciones Geofísicas
REFRESH-INTERVAL;VALUE=DURATION:PT1H
X-Robots-Tag:noindex
X-PUBLISHED-TTL:PT1H
BEGIN:VTIMEZONE
TZID:America/Costa_Rica
BEGIN:STANDARD
TZOFFSETFROM:-0600
TZOFFSETTO:-0600
TZNAME:CST
DTSTART:20230101T000000
END:STANDARD
END:VTIMEZONE
BEGIN:VEVENT
DTSTART;VALUE=DATE:20240322
DTEND;VALUE=DATE:20240323
DTSTAMP:20260420T144232
CREATED:20220214T021048Z
LAST-MODIFIED:20240229T193417Z
UID:342-1711065600-1711151999@cigefi.ucr.ac.cr
SUMMARY:Día Mundial del Agua
DESCRIPTION:La idea de celebrar este día internacional se remonta a 1992\, año en el que tuvo lugar la Conferencia de las Naciones Unidas sobre el Medio Ambiente y el Desarrollo de Río de Janeiro y en la que emanó la propuesta. Ese mismo año\, la Asamblea General adoptó la resolución por la que el 22 de marzo de cada año fue declarado Día Mundial del Agua\, siendo 1993 el primer año de celebración. \n  \n  \nhttps://www.un.org/es/observances/water-day/
URL:https://cigefi.ucr.ac.cr/event/dia-mundial-del-agua/
ATTACH;FMTTYPE=image/jpeg:https://cigefi.ucr.ac.cr/wp-content/uploads/2022/02/DSC02993-scaled.jpg
END:VEVENT
END:VCALENDAR